BEGIN:VCALENDAR
VERSION:2.0
PRODID:-//OmniMagnetCalendar//EN
BEGIN:VEVENT
DTSTAMP:20190625T195740Z
STATUS:CONFIRMED
UID:hcvictoria.clubs.harvard.edu393
DTSTART:20201022T120046Z
DTEND:20201021T133000Z
LOCATION:
SUMMARY:HUAAS Learning Room on Zoom
DESCRIPTION:Principles: Life & Work
BEGIN:VALARM
TRIGGER:-PT15M
ACTION:DISPLAY
END:VALARM
TRANSP:OPAQUE
END:VEVENT
END:VCALENDAR
