BEGIN:VCALENDAR
VERSION:2.0
PRODID:-//OmniMagnetCalendar//EN
BEGIN:VEVENT
DTSTAMP:20190625T195740Z
STATUS:CONFIRMED
UID:hcvictoria.clubs.harvard.edu402
DTSTART:20211007T071506Z
DTEND:20211007T071506Z
LOCATION:Fareshare Kitchen Abbostford,  1 South Audley St,, Abbostford, Victoria, Australia,
SUMMARY:Postponed: Inaugural “Harvard Gives Back” event
DESCRIPTION:
BEGIN:VALARM
TRIGGER:-PT15M
ACTION:DISPLAY
END:VALARM
TRANSP:OPAQUE
END:VEVENT
END:VCALENDAR
