BEGIN:VCALENDAR
VERSION:2.0
PRODID:-//OmniMagnetCalendar//EN
BEGIN:VEVENT
DTSTAMP:20190625T195740Z
STATUS:CONFIRMED
UID:hcvictoria.clubs.harvard.edu403
DTSTART:20210602T160026Z
DTEND:20210602T170026Z
LOCATION:
SUMMARY:Harvard Alumni Allyship Series: People with Disabilities, A Conversation with Brooke Ellison '00, MP
DESCRIPTION:
BEGIN:VALARM
TRIGGER:-PT15M
ACTION:DISPLAY
END:VALARM
TRANSP:OPAQUE
END:VEVENT
END:VCALENDAR
