BEGIN:VCALENDAR
VERSION:2.0
PRODID:-//OmniMagnetCalendar//EN
BEGIN:VEVENT
DTSTAMP:20190625T195740Z
STATUS:CONFIRMED
UID:hcvictoria.clubs.harvard.edu408
DTSTART:20211206T073052Z
DTEND:20211206T090052Z
LOCATION:The Duke of Wellington Hotel Rooftop, 146 Flinders Street, Melbourne, VIC, 3000, Australia,
SUMMARY:HCV Holiday Drinks
DESCRIPTION:
BEGIN:VALARM
TRIGGER:-PT15M
ACTION:DISPLAY
END:VALARM
TRANSP:OPAQUE
END:VEVENT
END:VCALENDAR
