BEGIN:VCALENDAR
VERSION:2.0
PRODID:-//OmniMagnetCalendar//EN
BEGIN:VEVENT
DTSTAMP:20190625T195740Z
STATUS:CONFIRMED
UID:hcvictoria.clubs.harvard.edu410
DTSTART:20220316T070055Z
DTEND:20220316T083055Z
LOCATION:Treasury Gardens, Melbourne, Treasury Place, Melbourne, 3000, Australia,
SUMMARY:Global Networking Night Melbourne
DESCRIPTION:
BEGIN:VALARM
TRIGGER:-PT15M
ACTION:DISPLAY
END:VALARM
TRANSP:OPAQUE
END:VEVENT
END:VCALENDAR
