BEGIN:VCALENDAR
VERSION:2.0
PRODID:-//OmniMagnetCalendar//EN
BEGIN:VEVENT
DTSTAMP:20190625T195740Z
STATUS:CONFIRMED
UID:hcvictoria.clubs.harvard.edu413
DTSTART:20220526T080011Z
DTEND:20220526T103011Z
LOCATION:Deloitte Melbourne, Lvl 30/477 Collins St, Melbourne, VIC, 3000, Australia,
SUMMARY:Annual International Business School Event with speaker Peter Sauerborn
DESCRIPTION:For Business School Alumni
BEGIN:VALARM
TRIGGER:-PT15M
ACTION:DISPLAY
END:VALARM
TRANSP:OPAQUE
END:VEVENT
END:VCALENDAR
