BEGIN:VCALENDAR
VERSION:2.0
PRODID:-//OmniMagnetCalendar//EN
BEGIN:VEVENT
DTSTAMP:20190625T195740Z
STATUS:CONFIRMED
UID:hcvictoria.clubs.harvard.edu415
DTSTART:20220805T020032Z
DTEND:20220805T040032Z
LOCATION:The Mint Bar & Restaurant, 318 William St, Melbourne, VIC, 3000,
SUMMARY:Harvard Law Lunch
DESCRIPTION:
BEGIN:VALARM
TRIGGER:-PT15M
ACTION:DISPLAY
END:VALARM
TRANSP:OPAQUE
END:VEVENT
END:VCALENDAR
