BEGIN:VCALENDAR
VERSION:2.0
PRODID:-//OmniMagnetCalendar//EN
BEGIN:VEVENT
DTSTAMP:20190625T195740Z
STATUS:CONFIRMED
UID:hcvictoria.clubs.harvard.edu428
DTSTART:20230817T080003Z
DTEND:20230817T093003Z
LOCATION:Allens, 37/101 Collins St, Melbourne, Vic, 3000, Australia,
SUMMARY:Insights on Digital Engagement and Activation
DESCRIPTION:
BEGIN:VALARM
TRIGGER:-PT15M
ACTION:DISPLAY
END:VALARM
TRANSP:OPAQUE
END:VEVENT
END:VCALENDAR
