BEGIN:VCALENDAR
VERSION:2.0
PRODID:-//OmniMagnetCalendar//EN
BEGIN:VEVENT
DTSTAMP:20190625T195740Z
STATUS:CONFIRMED
UID:hcvictoria.clubs.harvard.edu430
DTSTART:20230914T160013Z
DTEND:20230914T180013Z
LOCATION:Allens, Level 37/101 Collins St, Melbourne, VIC, 3000, Australia,
SUMMARY:AFL Politics then... and now
DESCRIPTION:with Colin Carter
BEGIN:VALARM
TRIGGER:-PT15M
ACTION:DISPLAY
END:VALARM
TRANSP:OPAQUE
END:VEVENT
END:VCALENDAR
