BEGIN:VCALENDAR
VERSION:2.0
PRODID:-//OmniMagnetCalendar//EN
BEGIN:VEVENT
DTSTAMP:20190625T195740Z
STATUS:CONFIRMED
UID:hcvictoria.clubs.harvard.edu431
DTSTART:20231011T073039Z
DTEND:20231011T114539Z
LOCATION:
SUMMARY:HCV AGM and Annual Dinner
DESCRIPTION:with guest speaker Danielle Wood
BEGIN:VALARM
TRIGGER:-PT15M
ACTION:DISPLAY
END:VALARM
TRANSP:OPAQUE
END:VEVENT
END:VCALENDAR
