BEGIN:VCALENDAR
VERSION:2.0
PRODID:-//OmniMagnetCalendar//EN
BEGIN:VEVENT
DTSTAMP:20190625T195740Z
STATUS:CONFIRMED
UID:hcvictoria.clubs.harvard.edu434
DTSTART:20240211T010014Z
DTEND:20240211T050014Z
LOCATION:Stonecutters Home, 7 Stonecutters Rd, Portsea, VIC, Australia,
SUMMARY:HCV Family Day
DESCRIPTION:
BEGIN:VALARM
TRIGGER:-PT15M
ACTION:DISPLAY
END:VALARM
TRANSP:OPAQUE
END:VEVENT
END:VCALENDAR
