BEGIN:VCALENDAR
VERSION:2.0
PRODID:-//OmniMagnetCalendar//EN
BEGIN:VEVENT
DTSTAMP:20190625T195740Z
STATUS:CONFIRMED
UID:hcvictoria.clubs.harvard.edu435
DTSTART:20240216T010035Z
DTEND:20240216T023035Z
LOCATION:BOTTEGA Restaurant, 74 Bourke St, Melbourne, Victoria, 3000, Australia,
SUMMARY:HCV Lunchtime Sessions
DESCRIPTION:with Rohan Chandler
BEGIN:VALARM
TRIGGER:-PT15M
ACTION:DISPLAY
END:VALARM
TRANSP:OPAQUE
END:VEVENT
END:VCALENDAR
