BEGIN:VCALENDAR
VERSION:2.0
PRODID:-//OmniMagnetCalendar//EN
BEGIN:VEVENT
DTSTAMP:20190625T195740Z
STATUS:CONFIRMED
UID:hcvictoria.clubs.harvard.edu437
DTSTART:20240313T073008Z
DTEND:20240313T093008Z
LOCATION:The Atrium, Beer DeLuxe Fed Square, Melbourne, Victoria, 3000,
SUMMARY:Harvard Alumni Global Networking Night
DESCRIPTION:
BEGIN:VALARM
TRIGGER:-PT15M
ACTION:DISPLAY
END:VALARM
TRANSP:OPAQUE
END:VEVENT
END:VCALENDAR
