BEGIN:VCALENDAR
VERSION:2.0
PRODID:-//OmniMagnetCalendar//EN
BEGIN:VEVENT
DTSTAMP:20190625T195740Z
STATUS:CONFIRMED
UID:hcvictoria.clubs.harvard.edu438
DTSTART:20240313T060059Z
DTEND:20240313T070059Z
LOCATION:Melbourne CBD,
SUMMARY:Ukraine – A conversation with the Ukrainian Ambassador to Australia, His Excellency Vasyl Myroshny
DESCRIPTION:
BEGIN:VALARM
TRIGGER:-PT15M
ACTION:DISPLAY
END:VALARM
TRANSP:OPAQUE
END:VEVENT
END:VCALENDAR
