BEGIN:VCALENDAR
VERSION:2.0
PRODID:-//OmniMagnetCalendar//EN
BEGIN:VEVENT
DTSTAMP:20190625T195740Z
STATUS:CONFIRMED
UID:hcvictoria.clubs.harvard.edu439
DTSTART:20240521T080047Z
DTEND:20240521T110047Z
LOCATION:
SUMMARY:International Business Schools event: Megatrends Shaping Australia
DESCRIPTION:
BEGIN:VALARM
TRIGGER:-PT15M
ACTION:DISPLAY
END:VALARM
TRANSP:OPAQUE
END:VEVENT
END:VCALENDAR
