BEGIN:VCALENDAR
VERSION:2.0
PRODID:-//OmniMagnetCalendar//EN
BEGIN:VEVENT
DTSTAMP:20190625T195740Z
STATUS:CONFIRMED
UID:hcvictoria.clubs.harvard.edu440
DTSTART:20240503T020031Z
DTEND:20240503T033031Z
LOCATION:Jenny Florence room at Ross House, 247/251 Flinders Ln, Melbourne, Victoria, 3000, Australia,
SUMMARY:HCV Lunch Session, Friday 3rd of May 2024
DESCRIPTION:
BEGIN:VALARM
TRIGGER:-PT15M
ACTION:DISPLAY
END:VALARM
TRANSP:OPAQUE
END:VEVENT
END:VCALENDAR
