BEGIN:VCALENDAR
VERSION:2.0
PRODID:-//OmniMagnetCalendar//EN
BEGIN:VEVENT
DTSTAMP:20190625T195740Z
STATUS:CONFIRMED
UID:hcvictoria.clubs.harvard.edu442
DTSTART:20240616T040040Z
DTEND:20240616T070040Z
LOCATION:63 Latrobe St , Melbourne, VIC , 3000,
SUMMARY:New Admits Drinks
DESCRIPTION:
BEGIN:VALARM
TRIGGER:-PT15M
ACTION:DISPLAY
END:VALARM
TRANSP:OPAQUE
END:VEVENT
END:VCALENDAR
