BEGIN:VCALENDAR
VERSION:2.0
PRODID:-//OmniMagnetCalendar//EN
BEGIN:VEVENT
DTSTAMP:20190625T195740Z
STATUS:CONFIRMED
UID:hcvictoria.clubs.harvard.edu443
DTSTART:20240509T073021Z
DTEND:20240509T090021Z
LOCATION:The Kelvin Club, 14-30 Melbourne Pl,, Melbourne, VIC, 3000,
SUMMARY:Paul Sheard on the "Power of Money"
DESCRIPTION:
BEGIN:VALARM
TRIGGER:-PT15M
ACTION:DISPLAY
END:VALARM
TRANSP:OPAQUE
END:VEVENT
END:VCALENDAR
