BEGIN:VCALENDAR
VERSION:2.0
PRODID:-//OmniMagnetCalendar//EN
BEGIN:VEVENT
DTSTAMP:20190625T195740Z
STATUS:CONFIRMED
UID:hcvictoria.clubs.harvard.edu452
DTSTART:20240823T020047Z
DTEND:20240823T033047Z
LOCATION:Ross House, Level 3, 247 Flinders Lane, Melbourne, Victoria, 3000, Australia,
SUMMARY:HCV Lunch Series - Beyond Bars: Corporate and Educational Roles in Second Chances with Jennifer Ma
DESCRIPTION:
BEGIN:VALARM
TRIGGER:-PT15M
ACTION:DISPLAY
END:VALARM
TRANSP:OPAQUE
END:VEVENT
END:VCALENDAR
