BEGIN:VCALENDAR
VERSION:2.0
PRODID:-//OmniMagnetCalendar//EN
BEGIN:VEVENT
DTSTAMP:20190625T195740Z
STATUS:CONFIRMED
UID:hcvictoria.clubs.harvard.edu459
DTSTART:20241114T070020Z
DTEND:
LOCATION:The State Library of Victoria Theatrette, 328 Swanston Street, Mebourne, VIC, 3000, Australia,
SUMMARY:History and Culture of the Murray-Darling Basin
DESCRIPTION:with Professor Katie Holmes, Chair of Australia Studies at Harvard University
BEGIN:VALARM
TRIGGER:-PT15M
ACTION:DISPLAY
END:VALARM
TRANSP:OPAQUE
END:VEVENT
END:VCALENDAR
