BEGIN:VCALENDAR
VERSION:2.0
PRODID:-//OmniMagnetCalendar//EN
BEGIN:VEVENT
DTSTAMP:20190625T195740Z
STATUS:CONFIRMED
UID:hcvictoria.clubs.harvard.edu461
DTSTART:20241213T010038Z
DTEND:20241213T023038Z
LOCATION:Ross House, Level 4, 247 Flinders Lane, Melbourne, Vic, 3000, Australia,
SUMMARY:The Future of Work and Creating the Workforce of the Future - 13 Dec lunch discussion
DESCRIPTION:
BEGIN:VALARM
TRIGGER:-PT15M
ACTION:DISPLAY
END:VALARM
TRANSP:OPAQUE
END:VEVENT
END:VCALENDAR
