BEGIN:VCALENDAR
VERSION:2.0
PRODID:-//OmniMagnetCalendar//EN
BEGIN:VEVENT
DTSTAMP:20190625T195740Z
STATUS:CONFIRMED
UID:hcvictoria.clubs.harvard.edu470
DTSTART:20250604T073029Z
DTEND:20250604T103029Z
LOCATION:Melbourne Business School, 200 Leicester St, Carlton, VIC, 3053, Australia,
SUMMARY:Leadership Lessons from the American Civil War
DESCRIPTION:with Ted Blamey, MBA, CEO, Educator
BEGIN:VALARM
TRIGGER:-PT15M
ACTION:DISPLAY
END:VALARM
TRANSP:OPAQUE
END:VEVENT
END:VCALENDAR
