BEGIN:VCALENDAR
VERSION:2.0
PRODID:-//OmniMagnetCalendar//EN
BEGIN:VEVENT
DTSTAMP:20190625T195740Z
STATUS:CONFIRMED
UID:hcvictoria.clubs.harvard.edu471
DTSTART:20250515T023046Z
DTEND:20250515T040046Z
LOCATION:Majorca Room, City Library, 253 Flinders Lane, Melbourne, Vic, 3000,
SUMMARY:HCV Lunch Series
DESCRIPTION:Behind the AI Curtain: Alumni and friends reveal how AI is really playing out — challenges, breakthroughs, and future trends.
BEGIN:VALARM
TRIGGER:-PT15M
ACTION:DISPLAY
END:VALARM
TRANSP:OPAQUE
END:VEVENT
END:VCALENDAR
