BEGIN:VCALENDAR
VERSION:2.0
PRODID:-//OmniMagnetCalendar//EN
BEGIN:VEVENT
DTSTAMP:20190625T195740Z
STATUS:CONFIRMED
UID:hcvictoria.clubs.harvard.edu474
DTSTART:20250703T023025Z
DTEND:20250703T040025Z
LOCATION:Hayden Raysmith Room, Level 4, Ross House,, 247/251 Flinders Lane, Melbourne, VIC, 3000, Australia,
SUMMARY:Lunchtime Series with R.G. Menzies Scholar Tiger Lin
DESCRIPTION:Harvard, the current administration and the rule of law in the United States
BEGIN:VALARM
TRIGGER:-PT15M
ACTION:DISPLAY
END:VALARM
TRANSP:OPAQUE
END:VEVENT
END:VCALENDAR
