BEGIN:VCALENDAR
VERSION:2.0
PRODID:-//OmniMagnetCalendar//EN
BEGIN:VEVENT
DTSTAMP:20190625T195740Z
STATUS:CONFIRMED
UID:hcvictoria.clubs.harvard.edu487
DTSTART:20250904T023033Z
DTEND:20250904T040033Z
LOCATION:Level 10, 550 Bourke St, Melbourne, VIC , 3000,
SUMMARY:Why Brilliant Medtech Ideas Die Before Reaching Patients…And What We Can Do About It:  Risk, Rewar
DESCRIPTION:
BEGIN:VALARM
TRIGGER:-PT15M
ACTION:DISPLAY
END:VALARM
TRANSP:OPAQUE
END:VEVENT
END:VCALENDAR
