BEGIN:VCALENDAR
VERSION:2.0
PRODID:-//OmniMagnetCalendar//EN
BEGIN:VEVENT
DTSTAMP:20190625T195740Z
STATUS:CONFIRMED
UID:hcvictoria.clubs.harvard.edu488
DTSTART:20251118T060023Z
DTEND:20251118T080023Z
LOCATION:
SUMMARY:Make Work Fair
DESCRIPTION:Harvard Kennedy School author Siri Chilazli AB ’10, MPP ’16, MBA ‘16, in conversation with Mary Wooldridge MBA ‘94, CEO of the Workplace Gender Equality Agency
BEGIN:VALARM
TRIGGER:-PT15M
ACTION:DISPLAY
END:VALARM
TRANSP:OPAQUE
END:VEVENT
END:VCALENDAR
