BEGIN:VCALENDAR
VERSION:2.0
PRODID:-//OmniMagnetCalendar//EN
BEGIN:VEVENT
DTSTAMP:20190625T195740Z
STATUS:CONFIRMED
UID:hcvictoria.clubs.harvard.edu490
DTSTART:20251106T070039Z
DTEND:20251106T090039Z
LOCATION:Victorian Artists Society, 430 Albert St, Eats Melbourne, VIC,
SUMMARY:Special Preview Exhibition- Louise Foletta's Inscape: Reflections of Land and Life
DESCRIPTION:
BEGIN:VALARM
TRIGGER:-PT15M
ACTION:DISPLAY
END:VALARM
TRANSP:OPAQUE
END:VEVENT
END:VCALENDAR
