BEGIN:VCALENDAR
VERSION:2.0
PRODID:-//OmniMagnetCalendar//EN
BEGIN:VEVENT
DTSTAMP:20190625T195740Z
STATUS:CONFIRMED
UID:hcvictoria.clubs.harvard.edu493
DTSTART:20251121T070018Z
DTEND:20251121T110018Z
LOCATION:Heritage Ballroom, The Fullerton Hotel , 1 Martin Place, Sydney, NSW, 2000,
SUMMARY:Once-in-a-decade Harvard Club Thanksgiving Dinner
DESCRIPTION:
BEGIN:VALARM
TRIGGER:-PT15M
ACTION:DISPLAY
END:VALARM
TRANSP:OPAQUE
END:VEVENT
END:VCALENDAR
