BEGIN:VCALENDAR
VERSION:2.0
PRODID:-//OmniMagnetCalendar//EN
BEGIN:VEVENT
DTSTAMP:20190625T195740Z
STATUS:CONFIRMED
UID:hcvictoria.clubs.harvard.edu494
DTSTART:20251204T070023Z
DTEND:20251204T090023Z
LOCATION:Stonehouse Corporation, Lvl 7, 411 Collins St, Melbourne, VIC , 3000,
SUMMARY:HCV Holiday Drinks
DESCRIPTION:
BEGIN:VALARM
TRIGGER:-PT15M
ACTION:DISPLAY
END:VALARM
TRANSP:OPAQUE
END:VEVENT
END:VCALENDAR
