BEGIN:VCALENDAR
VERSION:2.0
PRODID:-//OmniMagnetCalendar//EN
BEGIN:VEVENT
DTSTAMP:20190625T195740Z
STATUS:CONFIRMED
UID:hcvictoria.clubs.harvard.edu495
DTSTART:20251125T073031Z
DTEND:20251125T093031Z
LOCATION:
SUMMARY:HAE Oceania Event: How should we use AI?
DESCRIPTION:with Dr Tessa Forshaw. In-person and Virtual options
BEGIN:VALARM
TRIGGER:-PT15M
ACTION:DISPLAY
END:VALARM
TRANSP:OPAQUE
END:VEVENT
END:VCALENDAR
