BEGIN:VCALENDAR
VERSION:2.0
PRODID:-//OmniMagnetCalendar//EN
BEGIN:VEVENT
DTSTAMP:20190625T195740Z
STATUS:CONFIRMED
UID:hcvictoria.clubs.harvard.edu498
DTSTART:20260312T063033Z
DTEND:20260312T093033Z
LOCATION:Melbourne Business School, 200 Leicester St , Carlton, Vic, Australia,
SUMMARY:Leadership Lessons from the World of Sport: Special Lance Armstrong Case Study
DESCRIPTION:
BEGIN:VALARM
TRIGGER:-PT15M
ACTION:DISPLAY
END:VALARM
TRANSP:OPAQUE
END:VEVENT
END:VCALENDAR
