BEGIN:VCALENDAR
VERSION:2.0
PRODID:-//OmniMagnetCalendar//EN
BEGIN:VEVENT
DTSTAMP:20190625T195740Z
STATUS:CONFIRMED
UID:hcvictoria.clubs.harvard.edu500
DTSTART:20260319T013050Z
DTEND:20260319T030050Z
LOCATION:Ross House, Jenny Florence Room, 251 Flinders Lane, Melbourne, VIC , 3000, Australia,
SUMMARY:HCV Lunch Series: Inside AI - Organisation-level opportunities & execution
DESCRIPTION:
BEGIN:VALARM
TRIGGER:-PT15M
ACTION:DISPLAY
END:VALARM
TRANSP:OPAQUE
END:VEVENT
END:VCALENDAR
